BEGIN:VCALENDAR
VERSION:2.0
PRODID:spatie/icalendar-generator
DESCRIPTION:Events from Whitby
X-WR-CALDESC:Events from Whitby
REFRESH-INTERVAL;VALUE=DURATION:PT1440M
X-PUBLISHED-TTL:PT1440M
BEGIN:VTIMEZONE
TZID:Europe/London
BEGIN:STANDARD
DTSTART:20141026T020000Z
TZOFFSETFROM:+0100
TZOFFSETTO:+0000
END:STANDARD
BEGIN:DAYLIGHT
DTSTART:20150329T010000Z
TZOFFSETFROM:+0000
TZOFFSETTO:+0100
END:DAYLIGHT
BEGIN:STANDARD
DTSTART:20151025T020000Z
TZOFFSETFROM:+0100
TZOFFSETTO:+0000
END:STANDARD
END:VTIMEZONE
BEGIN:VTIMEZONE
TZID:UTC
BEGIN:STANDARD
DTSTART:20250729T122307Z
TZOFFSETFROM:+0000
TZOFFSETTO:+0000
END:STANDARD
END:VTIMEZONE
BEGIN:VEVENT
UID:64-53
DTSTAMP:20260425T122307Z
SUMMARY:The Great Seaside Vintage Fair 2015 - Whitby
LOCATION:Whitby Pavilion West Cliff  Whitby North Yorkshire YO21 3EN
ORGANIZER;CN=JS:MAILTO:info@completeinternetservices.co.uk
DTSTART;TZID=Europe/London:20150718T093000
DTEND;TZID=Europe/London:20150718T103000
X-ALT-DESC;FMTTYPE=TEXT/HTML:The Great Seaside Vintage Fair 2015 Saturday 1
 8 &amp; Sunday 19 July 2015 9.30am - 4pm (both days) The Great Seaside Vintage
  Fair 2015 returns to Whitby Pavilion for the fifth successive year! With 
 more than 40 stalls of quality vintage fashion and homewares from the 1920
 's to the 1980's. £2/£1.50 admission on the door&amp;hellip\;
CATEGORIES:Fair
URL;VALUE=URI:https://whitby.co.uk/mc-events/the-great-seaside-vintage-fair
 -2015-whitby/
METHOD:PUBLISH
END:VEVENT
END:VCALENDAR