BEGIN:VCALENDAR
VERSION:2.0
PRODID:spatie/icalendar-generator
DESCRIPTION:Events from Whitby
X-WR-CALDESC:Events from Whitby
REFRESH-INTERVAL;VALUE=DURATION:PT1440M
X-PUBLISHED-TTL:PT1440M
BEGIN:VTIMEZONE
TZID:Europe/London
BEGIN:DAYLIGHT
DTSTART:20150329T010000Z
TZOFFSETFROM:+0000
TZOFFSETTO:+0100
END:DAYLIGHT
BEGIN:STANDARD
DTSTART:20151025T020000Z
TZOFFSETFROM:+0100
TZOFFSETTO:+0000
END:STANDARD
END:VTIMEZONE
BEGIN:VTIMEZONE
TZID:UTC
BEGIN:STANDARD
DTSTART:20250727T221407Z
TZOFFSETFROM:+0000
TZOFFSETTO:+0000
END:STANDARD
END:VTIMEZONE
BEGIN:VEVENT
UID:55-44
DTSTAMP:20260423T221407Z
SUMMARY:Inside Out (U) - Whitby
LOCATION:Whitby Pavilion West Cliff  Whitby North Yorkshire YO21 3EN
ORGANIZER;CN=JS:MAILTO:info@completeinternetservices.co.uk
DTSTART;TZID=Europe/London:20150818T143000
DTEND;TZID=Europe/London:20150818T153000
X-ALT-DESC;FMTTYPE=TEXT/HTML:Inside the head of each and every one of us li
 ve five emotions: Joy\, Fear\, Anger\, Disgust and Sadness. These figures 
 see us through every new situation that comes our way\; in Riley’s case\
 , this means the big move from her home in the Midwest over to San Francis
 co. She’s struggling to adapt to her&amp;hellip\;
CATEGORIES:Cinema
URL;VALUE=URI:https://whitby.co.uk/mc-events/inside-out-u-whitby-5/
METHOD:PUBLISH
END:VEVENT
END:VCALENDAR