BEGIN:VCALENDAR
VERSION:2.0
PRODID:spatie/icalendar-generator
DESCRIPTION:Events from Whitby
X-WR-CALDESC:Events from Whitby
REFRESH-INTERVAL;VALUE=DURATION:PT1440M
X-PUBLISHED-TTL:PT1440M
BEGIN:VTIMEZONE
TZID:Europe/London
BEGIN:STANDARD
DTSTART:20141026T020000Z
TZOFFSETFROM:+0100
TZOFFSETTO:+0000
END:STANDARD
BEGIN:DAYLIGHT
DTSTART:20150329T010000Z
TZOFFSETFROM:+0000
TZOFFSETTO:+0100
END:DAYLIGHT
BEGIN:STANDARD
DTSTART:20151025T020000Z
TZOFFSETFROM:+0100
TZOFFSETTO:+0000
END:STANDARD
END:VTIMEZONE
BEGIN:VTIMEZONE
TZID:UTC
BEGIN:STANDARD
DTSTART:20250727T171455Z
TZOFFSETFROM:+0000
TZOFFSETTO:+0000
END:STANDARD
END:VTIMEZONE
BEGIN:VEVENT
UID:42-31
DTSTAMP:20260423T171455Z
SUMMARY:Jurassic World (12a) - Whitby
LOCATION:Whitby Pavilion West Cliff  Whitby North Yorkshire YO21 3EN
ORGANIZER;CN=JS:MAILTO:info@completeinternetservices.co.uk
DTSTART;TZID=Europe/London:20150706T193000
DTEND;TZID=Europe/London:20150706T203000
X-ALT-DESC;FMTTYPE=TEXT/HTML:Jurassic World is a huge\, exciting theme park
  located on a remote island in the Pacific. The staff in the lab have been
  using genetic testing to learn about the creatures of the past\, and to c
 reate one for the future – a new dinosaur. With the island packed full w
 ith tourists\, the last thing&amp;hellip\;
CATEGORIES:Cinema
URL;VALUE=URI:https://whitby.co.uk/mc-events/jurassic-world-12a-whitby/
METHOD:PUBLISH
END:VEVENT
END:VCALENDAR