BEGIN:VCALENDAR
VERSION:2.0
PRODID:spatie/icalendar-generator
DESCRIPTION:Events from Whitby
X-WR-CALDESC:Events from Whitby
REFRESH-INTERVAL;VALUE=DURATION:PT1440M
X-PUBLISHED-TTL:PT1440M
BEGIN:VTIMEZONE
TZID:Europe/London
BEGIN:DAYLIGHT
DTSTART:20150329T010000Z
TZOFFSETFROM:+0000
TZOFFSETTO:+0100
END:DAYLIGHT
BEGIN:STANDARD
DTSTART:20151025T020000Z
TZOFFSETFROM:+0100
TZOFFSETTO:+0000
END:STANDARD
END:VTIMEZONE
BEGIN:VTIMEZONE
TZID:UTC
BEGIN:STANDARD
DTSTART:20250727T171456Z
TZOFFSETFROM:+0000
TZOFFSETTO:+0000
END:STANDARD
END:VTIMEZONE
BEGIN:VEVENT
UID:36-25
DTSTAMP:20260423T171456Z
SUMMARY:Ted 2 (15) Whitby
LOCATION:Whitby Pavilion West Cliff  Whitby North Yorkshire YO21 3EN
ORGANIZER;CN=JS:MAILTO:info@completeinternetservices.co.uk
DTSTART;TZID=Europe/London:20150801T193000
DTEND;TZID=Europe/London:20150801T203000
X-ALT-DESC;FMTTYPE=TEXT/HTML:In 2012\, Ted burst onto the silver screen to 
 an unsuspecting audience and delighted film fans with his unique brand of 
 bad bear behaviour. As he grows old disgracefully\, his best mate John str
 uggles to let go of childish things and saw his relationship with the beau
 tiful Lori suffer as a result. Ted 2 sees&amp;hellip\;
CATEGORIES:Cinema
URL;VALUE=URI:https://whitby.co.uk/mc-events/ted-2-15-whitby-2/
METHOD:PUBLISH
END:VEVENT
END:VCALENDAR