BEGIN:VCALENDAR
VERSION:2.0
PRODID:spatie/icalendar-generator
DESCRIPTION:Events from Whitby
X-WR-CALDESC:Events from Whitby
REFRESH-INTERVAL;VALUE=DURATION:PT1440M
X-PUBLISHED-TTL:PT1440M
BEGIN:VTIMEZONE
TZID:Europe/London
BEGIN:STANDARD
DTSTART:20151025T020000Z
TZOFFSETFROM:+0100
TZOFFSETTO:+0000
END:STANDARD
BEGIN:DAYLIGHT
DTSTART:20160327T010000Z
TZOFFSETFROM:+0000
TZOFFSETTO:+0100
END:DAYLIGHT
BEGIN:STANDARD
DTSTART:20161030T020000Z
TZOFFSETFROM:+0100
TZOFFSETTO:+0000
END:STANDARD
END:VTIMEZONE
BEGIN:VTIMEZONE
TZID:UTC
BEGIN:STANDARD
DTSTART:20250728T011921Z
TZOFFSETFROM:+0000
TZOFFSETTO:+0000
END:STANDARD
END:VTIMEZONE
BEGIN:VEVENT
UID:2295-234
DTSTAMP:20260424T011921Z
SUMMARY:Blessing of the Boats Whitby
LOCATION:Whitby   Whitby North Yorkshire YO21
ORGANIZER;CN=JS:MAILTO:info@completeinternetservices.co.uk
DTSTART;TZID=Europe/London;VALUE=DATE:20160710
DTEND;TZID=Europe/London;VALUE=DATE:20160711
X-ALT-DESC;FMTTYPE=TEXT/HTML:<p>Reflecting the town's seafaring traditions 
 this service has been taking place since the 1960s dating back to the time
  of the herring fleets.</p>\n
CATEGORIES:Town Events
URL;VALUE=URI:https://whitby.co.uk/mc-events/blessing-of-the-boats-whitby/
METHOD:PUBLISH
END:VEVENT
END:VCALENDAR