BEGIN:VCALENDAR
VERSION:2.0
PRODID:spatie/icalendar-generator
DESCRIPTION:Events from Whitby
X-WR-CALDESC:Events from Whitby
REFRESH-INTERVAL;VALUE=DURATION:PT1440M
X-PUBLISHED-TTL:PT1440M
BEGIN:VTIMEZONE
TZID:Europe/London
BEGIN:STANDARD
DTSTART:20151025T020000Z
TZOFFSETFROM:+0100
TZOFFSETTO:+0000
END:STANDARD
BEGIN:DAYLIGHT
DTSTART:20160327T010000Z
TZOFFSETFROM:+0000
TZOFFSETTO:+0100
END:DAYLIGHT
BEGIN:STANDARD
DTSTART:20161030T020000Z
TZOFFSETFROM:+0100
TZOFFSETTO:+0000
END:STANDARD
END:VTIMEZONE
BEGIN:VTIMEZONE
TZID:UTC
BEGIN:STANDARD
DTSTART:20250727T234757Z
TZOFFSETFROM:+0000
TZOFFSETTO:+0000
END:STANDARD
END:VTIMEZONE
BEGIN:VEVENT
UID:2282-221
DTSTAMP:20260423T234757Z
SUMMARY:ROBIN HOOD'S BAY FOLK WEEKEND 2015
LOCATION:Robin Hoods Bay   Robin Hoods Bay North Yorkshire
ORGANIZER;CN=JS:MAILTO:info@completeinternetservices.co.uk
DTSTART;TZID=Europe/London;VALUE=DATE:20160606
DTEND;TZID=Europe/London;VALUE=DATE:20160607
X-ALT-DESC;FMTTYPE=TEXT/HTML:<p>Music Sessions and Singarounds in and aroun
 d the 'famed city of Robin Hood's Bay'<br />\non the beautiful Yorkshire C
 oast.</p>\n
CATEGORIES:Music
URL;VALUE=URI:https://whitby.co.uk/mc-events/robin-hoods-bay-folk-weekend-2
 015-2/
METHOD:PUBLISH
END:VEVENT
END:VCALENDAR