BEGIN:VCALENDAR
VERSION:2.0
PRODID:spatie/icalendar-generator
DESCRIPTION:Events from Whitby
X-WR-CALDESC:Events from Whitby
REFRESH-INTERVAL;VALUE=DURATION:PT1440M
X-PUBLISHED-TTL:PT1440M
BEGIN:VTIMEZONE
TZID:Europe/London
BEGIN:STANDARD
DTSTART:20151025T020000Z
TZOFFSETFROM:+0100
TZOFFSETTO:+0000
END:STANDARD
BEGIN:DAYLIGHT
DTSTART:20160327T010000Z
TZOFFSETFROM:+0000
TZOFFSETTO:+0100
END:DAYLIGHT
BEGIN:STANDARD
DTSTART:20161030T020000Z
TZOFFSETFROM:+0100
TZOFFSETTO:+0000
END:STANDARD
END:VTIMEZONE
BEGIN:VTIMEZONE
TZID:UTC
BEGIN:STANDARD
DTSTART:20250728T025510Z
TZOFFSETFROM:+0000
TZOFFSETTO:+0000
END:STANDARD
END:VTIMEZONE
BEGIN:VEVENT
UID:2277-216
DTSTAMP:20260424T025510Z
SUMMARY:Swan Lake\, presented by Vienna Festival Ballet Whitby
LOCATION:Whitby Pavilion West Cliff  Whitby North Yorkshire YO21 3EN
ORGANIZER;CN=JS:MAILTO:info@completeinternetservices.co.uk
DTSTART;TZID=Europe/London:20160606T190000
DTEND;TZID=Europe/London:20160606T200000
X-ALT-DESC;FMTTYPE=TEXT/HTML:<p>“Vienna Festival Ballet\, with its talent
 ed array of young artistes\, ensures you won’t see dancers going through
  the motions” Oxford Times</p>\n
CATEGORIES:Dance
URL;VALUE=URI:https://whitby.co.uk/mc-events/swan-lake-presented-by-vienna-
 festival-ballet-whitby/
METHOD:PUBLISH
END:VEVENT
END:VCALENDAR