BEGIN:VCALENDAR
VERSION:2.0
PRODID:spatie/icalendar-generator
DESCRIPTION:Events from Whitby
X-WR-CALDESC:Events from Whitby
REFRESH-INTERVAL;VALUE=DURATION:PT1440M
X-PUBLISHED-TTL:PT1440M
BEGIN:VTIMEZONE
TZID:Europe/London
BEGIN:STANDARD
DTSTART:20151025T020000Z
TZOFFSETFROM:+0100
TZOFFSETTO:+0000
END:STANDARD
BEGIN:DAYLIGHT
DTSTART:20160327T010000Z
TZOFFSETFROM:+0000
TZOFFSETTO:+0100
END:DAYLIGHT
END:VTIMEZONE
BEGIN:VTIMEZONE
TZID:UTC
BEGIN:STANDARD
DTSTART:20250728T011921Z
TZOFFSETFROM:+0000
TZOFFSETTO:+0000
END:STANDARD
END:VTIMEZONE
BEGIN:VEVENT
UID:2271-210
DTSTAMP:20260424T011921Z
SUMMARY:TIME IS MONEY: A PINK FLOYD TRIBUTE Whitby
LOCATION:Whitby Pavilion West Cliff  Whitby North Yorkshire YO21 3EN
ORGANIZER;CN=JS:MAILTO:info@completeinternetservices.co.uk
DTSTART;TZID=Europe/London:20160305T200000
DTEND;TZID=Europe/London:20160305T210000
X-ALT-DESC;FMTTYPE=TEXT/HTML:<p>The lights dim\, a hush descends upon the a
 udience and the sound of one of the most innovative and majestic bands of 
 all time hits your ears. Eight musicians fill the stage to faithfully recr
 eate some of the greatest music ever written.</p>\n
CATEGORIES:Music
URL;VALUE=URI:https://whitby.co.uk/mc-events/time-is-money-a-pink-floyd-tri
 bute-whitby/
METHOD:PUBLISH
END:VEVENT
END:VCALENDAR