BEGIN:VCALENDAR
VERSION:2.0
PRODID:spatie/icalendar-generator
DESCRIPTION:Events from Whitby
X-WR-CALDESC:Events from Whitby
REFRESH-INTERVAL;VALUE=DURATION:PT1440M
X-PUBLISHED-TTL:PT1440M
BEGIN:VTIMEZONE
TZID:Europe/London
BEGIN:STANDARD
DTSTART:20151025T020000Z
TZOFFSETFROM:+0100
TZOFFSETTO:+0000
END:STANDARD
BEGIN:DAYLIGHT
DTSTART:20160327T010000Z
TZOFFSETFROM:+0000
TZOFFSETTO:+0100
END:DAYLIGHT
END:VTIMEZONE
BEGIN:VTIMEZONE
TZID:UTC
BEGIN:STANDARD
DTSTART:20250727T164706Z
TZOFFSETFROM:+0000
TZOFFSETTO:+0000
END:STANDARD
END:VTIMEZONE
BEGIN:VEVENT
UID:2266-205
DTSTAMP:20260423T164706Z
SUMMARY:SNOW WHITE and The SEVEN DWARFS Whitby
LOCATION:Whitby Pavilion West Cliff  Whitby North Yorkshire YO21 3EN
ORGANIZER;CN=JS:MAILTO:info@completeinternetservices.co.uk
DTSTART;TZID=Europe/London:20160113T190000
DTEND;TZID=Europe/London:20160113T200000
X-ALT-DESC;FMTTYPE=TEXT/HTML:<p>The ever popular Apollo Players return to W
 hitby Pavilion Theatre for their annual pantomime this January with a firs
 t for the society\, Snow White and the Seven Dwarfs.</p>\n
CATEGORIES:Plays
URL;VALUE=URI:https://whitby.co.uk/mc-events/snow-white-and-the-seven-dwarf
 s-whitby-3/
METHOD:PUBLISH
END:VEVENT
END:VCALENDAR