BEGIN:VCALENDAR
VERSION:2.0
PRODID:spatie/icalendar-generator
DESCRIPTION:Events from Whitby
X-WR-CALDESC:Events from Whitby
REFRESH-INTERVAL;VALUE=DURATION:PT1440M
X-PUBLISHED-TTL:PT1440M
BEGIN:VTIMEZONE
TZID:Europe/London
BEGIN:DAYLIGHT
DTSTART:20150329T010000Z
TZOFFSETFROM:+0000
TZOFFSETTO:+0100
END:DAYLIGHT
BEGIN:STANDARD
DTSTART:20151025T020000Z
TZOFFSETFROM:+0100
TZOFFSETTO:+0000
END:STANDARD
BEGIN:DAYLIGHT
DTSTART:20160327T010000Z
TZOFFSETFROM:+0000
TZOFFSETTO:+0100
END:DAYLIGHT
END:VTIMEZONE
BEGIN:VTIMEZONE
TZID:UTC
BEGIN:STANDARD
DTSTART:20250728T001601Z
TZOFFSETFROM:+0000
TZOFFSETTO:+0000
END:STANDARD
END:VTIMEZONE
BEGIN:VEVENT
UID:2260-199
DTSTAMP:20260424T001601Z
SUMMARY:WASSAIL - A WINTER CELEBRATION Whitby
LOCATION:Whitby Pavilion West Cliff  Whitby North Yorkshire YO21 3EN
ORGANIZER;CN=JS:MAILTO:info@completeinternetservices.co.uk
DTSTART;TZID=Europe/London:20151213T193000
DTEND;TZID=Europe/London:20151213T220000
X-ALT-DESC;FMTTYPE=TEXT/HTML:<p>An annual celebration of winter\,and the ri
 tuals and songs of North Yorkshire. Featuring Richard Grainger\, instrumen
 talists 'Blind Panic' and a host of folk musicians. www.festivalonthemoor.
 co.uk</p>\n
CATEGORIES:Fair
URL;VALUE=URI:https://whitby.co.uk/mc-events/wassail-a-winter-celebration-w
 hitby/
METHOD:PUBLISH
END:VEVENT
END:VCALENDAR