BEGIN:VCALENDAR
VERSION:2.0
PRODID:spatie/icalendar-generator
DESCRIPTION:Events from Whitby
X-WR-CALDESC:Events from Whitby
REFRESH-INTERVAL;VALUE=DURATION:PT1440M
X-PUBLISHED-TTL:PT1440M
BEGIN:VTIMEZONE
TZID:Europe/London
BEGIN:DAYLIGHT
DTSTART:20150329T010000Z
TZOFFSETFROM:+0000
TZOFFSETTO:+0100
END:DAYLIGHT
BEGIN:STANDARD
DTSTART:20151025T020000Z
TZOFFSETFROM:+0100
TZOFFSETTO:+0000
END:STANDARD
BEGIN:DAYLIGHT
DTSTART:20160327T010000Z
TZOFFSETFROM:+0000
TZOFFSETTO:+0100
END:DAYLIGHT
END:VTIMEZONE
BEGIN:VTIMEZONE
TZID:UTC
BEGIN:STANDARD
DTSTART:20250727T164706Z
TZOFFSETFROM:+0000
TZOFFSETTO:+0000
END:STANDARD
END:VTIMEZONE
BEGIN:VEVENT
UID:2258-197
DTSTAMP:20260423T164706Z
SUMMARY:Victorian Weekend 2015 Robin Hoods Bay
LOCATION:
ORGANIZER;CN=JS:MAILTO:info@completeinternetservices.co.uk
DTSTART;TZID=Europe/London;VALUE=DATE:20151205
DTEND;TZID=Europe/London;VALUE=DATE:20151206
X-ALT-DESC;FMTTYPE=TEXT/HTML:<p>2015 Victorian weekend will take place on 4
 th\, 5th and 6th of December 2015\, a new programme will follow.</p>\n
CATEGORIES:Town Events
URL;VALUE=URI:https://whitby.co.uk/mc-events/victorian-weekend-2015-robin-h
 oods-bay-2/
METHOD:PUBLISH
END:VEVENT
END:VCALENDAR