BEGIN:VCALENDAR
VERSION:2.0
PRODID:spatie/icalendar-generator
DESCRIPTION:Events from Whitby
X-WR-CALDESC:Events from Whitby
REFRESH-INTERVAL;VALUE=DURATION:PT1440M
X-PUBLISHED-TTL:PT1440M
BEGIN:VTIMEZONE
TZID:Europe/London
BEGIN:DAYLIGHT
DTSTART:20150329T010000Z
TZOFFSETFROM:+0000
TZOFFSETTO:+0100
END:DAYLIGHT
BEGIN:STANDARD
DTSTART:20151025T020000Z
TZOFFSETFROM:+0100
TZOFFSETTO:+0000
END:STANDARD
BEGIN:DAYLIGHT
DTSTART:20160327T010000Z
TZOFFSETFROM:+0000
TZOFFSETTO:+0100
END:DAYLIGHT
END:VTIMEZONE
BEGIN:VTIMEZONE
TZID:UTC
BEGIN:STANDARD
DTSTART:20250727T235700Z
TZOFFSETFROM:+0000
TZOFFSETTO:+0000
END:STANDARD
END:VTIMEZONE
BEGIN:VEVENT
UID:2243-187
DTSTAMP:20260423T235700Z
SUMMARY:Whitby Amataeur Dramatic Society presents 'A Kick in the Baubles'
LOCATION:Whitby Pavilion West Cliff  Whitby North Yorkshire YO21 3EN
ORGANIZER;CN=JS:MAILTO:info@completeinternetservices.co.uk
DTSTART;TZID=Europe/London:20151114T193000
DTEND;TZID=Europe/London:20151114T203000
X-ALT-DESC;FMTTYPE=TEXT/HTML:<p>Frank does not wish it could be Christmas e
 very day - in fact\, he’s dreading the arrival of snobbish in-laws who o
 nly ever bring a single bottle of wine for the entire festivities. Throw i
 n a couple of larger-than-live neighbours\, let the drink flow merrily\, a
 nd everything is set for a car-crash Christmas.</p>\n
CATEGORIES:Plays
URL;VALUE=URI:https://whitby.co.uk/mc-events/whitby-amataeur-dramatic-socie
 ty-presents-a-kick-in-the-baubles/
METHOD:PUBLISH
END:VEVENT
END:VCALENDAR