BEGIN:VCALENDAR
VERSION:2.0
PRODID:spatie/icalendar-generator
DESCRIPTION:Events from Whitby
X-WR-CALDESC:Events from Whitby
REFRESH-INTERVAL;VALUE=DURATION:PT1440M
X-PUBLISHED-TTL:PT1440M
BEGIN:VTIMEZONE
TZID:Europe/London
BEGIN:DAYLIGHT
DTSTART:20150329T010000Z
TZOFFSETFROM:+0000
TZOFFSETTO:+0100
END:DAYLIGHT
BEGIN:STANDARD
DTSTART:20151025T020000Z
TZOFFSETFROM:+0100
TZOFFSETTO:+0000
END:STANDARD
BEGIN:DAYLIGHT
DTSTART:20160327T010000Z
TZOFFSETFROM:+0000
TZOFFSETTO:+0100
END:DAYLIGHT
END:VTIMEZONE
BEGIN:VTIMEZONE
TZID:UTC
BEGIN:STANDARD
DTSTART:20250727T164706Z
TZOFFSETFROM:+0000
TZOFFSETTO:+0000
END:STANDARD
END:VTIMEZONE
BEGIN:VEVENT
UID:2241-185
DTSTAMP:20260423T164706Z
SUMMARY:The Glenn Miller Story Whitby
LOCATION:Whitby Pavilion West Cliff  Whitby North Yorkshire YO21 3EN
ORGANIZER;CN=JS:MAILTO:info@completeinternetservices.co.uk
DTSTART;TZID=Europe/London:20151108T190000
DTEND;TZID=Europe/London:20151108T200000
X-ALT-DESC;FMTTYPE=TEXT/HTML:<p>Presented by the Northern Showtime Orchestr
 a</p>\n<p>Performing live music recreated from original performances by th
 e eight expert musicians and vocalists of Tony Turner’s Northern Showtim
 e Orchestra.</p>\n<p>The story of Glenn Miller’s life - from band musici
 an to the world's most famous bandleader.</p>\n
CATEGORIES:Music
URL;VALUE=URI:https://whitby.co.uk/mc-events/the-glenn-miller-story-whitby/
METHOD:PUBLISH
END:VEVENT
END:VCALENDAR