BEGIN:VCALENDAR
VERSION:2.0
PRODID:spatie/icalendar-generator
DESCRIPTION:Events from Whitby
X-WR-CALDESC:Events from Whitby
REFRESH-INTERVAL;VALUE=DURATION:PT1440M
X-PUBLISHED-TTL:PT1440M
BEGIN:VTIMEZONE
TZID:Europe/London
BEGIN:DAYLIGHT
DTSTART:20150329T010000Z
TZOFFSETFROM:+0000
TZOFFSETTO:+0100
END:DAYLIGHT
BEGIN:STANDARD
DTSTART:20151025T020000Z
TZOFFSETFROM:+0100
TZOFFSETTO:+0000
END:STANDARD
BEGIN:DAYLIGHT
DTSTART:20160327T010000Z
TZOFFSETFROM:+0000
TZOFFSETTO:+0100
END:DAYLIGHT
END:VTIMEZONE
BEGIN:VTIMEZONE
TZID:UTC
BEGIN:STANDARD
DTSTART:20250727T234758Z
TZOFFSETFROM:+0000
TZOFFSETTO:+0000
END:STANDARD
END:VTIMEZONE
BEGIN:VEVENT
UID:2240-184
DTSTAMP:20260423T234758Z
SUMMARY:DRACULA Ribcage Productions Whitby
LOCATION:Whitby Pavilion West Cliff  Whitby North Yorkshire YO21 3EN
ORGANIZER;CN=JS:MAILTO:info@completeinternetservices.co.uk
DTSTART;TZID=Europe/London:20151106T190000
DTEND;TZID=Europe/London:20151106T200000
X-ALT-DESC;FMTTYPE=TEXT/HTML:<p>A modern adaptation of Bram Stoker’s clas
 sic novel adapted and directed by Owen Phillips. This fast paced\, excitin
 g physical theatre piece is the re-imagining of a modern day Dracula and w
 ill keep you on the edge of your seat.</p>\n
CATEGORIES:Plays
URL;VALUE=URI:https://whitby.co.uk/mc-events/dracula-ribcage-productions-wh
 itby/
METHOD:PUBLISH
END:VEVENT
END:VCALENDAR