BEGIN:VCALENDAR
VERSION:2.0
PRODID:spatie/icalendar-generator
DESCRIPTION:Events from Whitby
X-WR-CALDESC:Events from Whitby
REFRESH-INTERVAL;VALUE=DURATION:PT1440M
X-PUBLISHED-TTL:PT1440M
BEGIN:VTIMEZONE
TZID:Europe/London
BEGIN:DAYLIGHT
DTSTART:20150329T010000Z
TZOFFSETFROM:+0000
TZOFFSETTO:+0100
END:DAYLIGHT
BEGIN:STANDARD
DTSTART:20151025T020000Z
TZOFFSETFROM:+0100
TZOFFSETTO:+0000
END:STANDARD
BEGIN:DAYLIGHT
DTSTART:20160327T010000Z
TZOFFSETFROM:+0000
TZOFFSETTO:+0100
END:DAYLIGHT
END:VTIMEZONE
BEGIN:VTIMEZONE
TZID:UTC
BEGIN:STANDARD
DTSTART:20250727T235940Z
TZOFFSETFROM:+0000
TZOFFSETTO:+0000
END:STANDARD
END:VTIMEZONE
BEGIN:VEVENT
UID:2234-178
DTSTAMP:20260423T235940Z
SUMMARY:FASHION AND FIBRES\, ISLAND DRESS IN POLYNESIA
LOCATION:
ORGANIZER;CN=JS:MAILTO:info@completeinternetservices.co.uk
DTSTART;TZID=Europe/London:20151030T094500
DTEND;TZID=Europe/London:20151030T170000
X-ALT-DESC;FMTTYPE=TEXT/HTML:<p>FASHION AND FIBRES\, ISLAND DRESS IN POLYNE
 SIA\, What did Polynesians wear? Local materials such as bark\, leaves and
  plant fibres were used to create and decorate fabrics of surprising delic
 acy and beauty. Much of this 'exotic' fabric was given to Cook and the voy
 agers as gifts.</p>\n
CATEGORIES:Displays
URL;VALUE=URI:https://whitby.co.uk/mc-events/fashion-and-fibres-island-dres
 s-in-polynesia/
METHOD:PUBLISH
END:VEVENT
END:VCALENDAR