BEGIN:VCALENDAR
VERSION:2.0
PRODID:spatie/icalendar-generator
DESCRIPTION:Events from Whitby
X-WR-CALDESC:Events from Whitby
REFRESH-INTERVAL;VALUE=DURATION:PT1440M
X-PUBLISHED-TTL:PT1440M
BEGIN:VTIMEZONE
TZID:Europe/London
BEGIN:DAYLIGHT
DTSTART:20150329T010000Z
TZOFFSETFROM:+0000
TZOFFSETTO:+0100
END:DAYLIGHT
BEGIN:STANDARD
DTSTART:20151025T020000Z
TZOFFSETFROM:+0100
TZOFFSETTO:+0000
END:STANDARD
BEGIN:DAYLIGHT
DTSTART:20160327T010000Z
TZOFFSETFROM:+0000
TZOFFSETTO:+0100
END:DAYLIGHT
END:VTIMEZONE
BEGIN:VTIMEZONE
TZID:UTC
BEGIN:STANDARD
DTSTART:20250729T110305Z
TZOFFSETFROM:+0000
TZOFFSETTO:+0000
END:STANDARD
END:VTIMEZONE
BEGIN:VEVENT
UID:2233-177
DTSTAMP:20260425T110305Z
SUMMARY:WHITBY FIREWORKS DISPLAY 2015
LOCATION:
ORGANIZER;CN=JS:MAILTO:info@completeinternetservices.co.uk
DTSTART;TZID=Europe/London:20151105T183000
DTEND;TZID=Europe/London:20151105T220000
X-ALT-DESC;FMTTYPE=TEXT/HTML:<p>Thursday 5th November 2015</p>\n<p>Gates op
 en from 6.30pm - 10pm</p>\n<p>Well our little town has not had an organise
 d community bonfire and fireworks display for 18 years! Well with alot of 
 hard work the club has managed to bring it back!</p>\n
CATEGORIES:Displays
URL;VALUE=URI:https://whitby.co.uk/mc-events/whitby-fireworks-display-2015/
METHOD:PUBLISH
END:VEVENT
END:VCALENDAR