BEGIN:VCALENDAR
VERSION:2.0
PRODID:spatie/icalendar-generator
DESCRIPTION:Events from Whitby
X-WR-CALDESC:Events from Whitby
REFRESH-INTERVAL;VALUE=DURATION:PT1440M
X-PUBLISHED-TTL:PT1440M
BEGIN:VTIMEZONE
TZID:Europe/London
BEGIN:DAYLIGHT
DTSTART:20150329T010000Z
TZOFFSETFROM:+0000
TZOFFSETTO:+0100
END:DAYLIGHT
BEGIN:STANDARD
DTSTART:20151025T020000Z
TZOFFSETFROM:+0100
TZOFFSETTO:+0000
END:STANDARD
BEGIN:DAYLIGHT
DTSTART:20160327T010000Z
TZOFFSETFROM:+0000
TZOFFSETTO:+0100
END:DAYLIGHT
END:VTIMEZONE
BEGIN:VTIMEZONE
TZID:UTC
BEGIN:STANDARD
DTSTART:20250728T025510Z
TZOFFSETFROM:+0000
TZOFFSETTO:+0000
END:STANDARD
END:VTIMEZONE
BEGIN:VEVENT
UID:2232-176
DTSTAMP:20260424T025510Z
SUMMARY:The Snow Queen - Whitby Pavilion
LOCATION:Whitby Pavilion West Cliff  Whitby North Yorkshire YO21 3EN
ORGANIZER;CN=JS:MAILTO:info@completeinternetservices.co.uk
DTSTART;TZID=Europe/London:20151217T180000
DTEND;TZID=Europe/London:20151217T230000
X-ALT-DESC;FMTTYPE=TEXT/HTML:<p>Far away in the frozen land of Avalonia\, t
 he Snow Queen kidnaps a young boy named Kai in order to obtain the full po
 wers of her mystic mirror that will make her immortal.</p>\n
CATEGORIES:Show
URL;VALUE=URI:https://whitby.co.uk/mc-events/the-snow-queen-whitby-pavilion
 /
METHOD:PUBLISH
END:VEVENT
END:VCALENDAR