BEGIN:VCALENDAR
VERSION:2.0
PRODID:spatie/icalendar-generator
DESCRIPTION:Events from Whitby
X-WR-CALDESC:Events from Whitby
REFRESH-INTERVAL;VALUE=DURATION:PT1440M
X-PUBLISHED-TTL:PT1440M
BEGIN:VTIMEZONE
TZID:Europe/London
BEGIN:DAYLIGHT
DTSTART:20150329T010000Z
TZOFFSETFROM:+0000
TZOFFSETTO:+0100
END:DAYLIGHT
BEGIN:STANDARD
DTSTART:20151025T020000Z
TZOFFSETFROM:+0100
TZOFFSETTO:+0000
END:STANDARD
END:VTIMEZONE
BEGIN:VTIMEZONE
TZID:UTC
BEGIN:STANDARD
DTSTART:20250727T205758Z
TZOFFSETFROM:+0000
TZOFFSETTO:+0000
END:STANDARD
END:VTIMEZONE
BEGIN:VEVENT
UID:2225-169
DTSTAMP:20260423T205758Z
SUMMARY:Mark Atkinson - The Station Inn Whitby
LOCATION:The Station Inn - Whitby New Quay Road  Whitby North Yorkshire YO2
 1 1DH
ORGANIZER;CN=JS:MAILTO:info@completeinternetservices.co.uk
DTSTART;TZID=Europe/London:20150801T210000
DTEND;TZID=Europe/London:20150801T230000
X-ALT-DESC;FMTTYPE=TEXT/HTML:<p>Mark Atkinson\, Live Entertainment\, The St
 ation Inn\, Whitby</p>\n
CATEGORIES:Music
URL;VALUE=URI:https://whitby.co.uk/mc-events/mark-atkinson-the-station-inn-
 whitby-3/
METHOD:PUBLISH
END:VEVENT
END:VCALENDAR