BEGIN:VCALENDAR
VERSION:2.0
PRODID:spatie/icalendar-generator
DESCRIPTION:Events from Whitby
X-WR-CALDESC:Events from Whitby
REFRESH-INTERVAL;VALUE=DURATION:PT1440M
X-PUBLISHED-TTL:PT1440M
BEGIN:VTIMEZONE
TZID:Europe/London
BEGIN:DAYLIGHT
DTSTART:20150329T010000Z
TZOFFSETFROM:+0000
TZOFFSETTO:+0100
END:DAYLIGHT
BEGIN:STANDARD
DTSTART:20151025T020000Z
TZOFFSETFROM:+0100
TZOFFSETTO:+0000
END:STANDARD
END:VTIMEZONE
BEGIN:VTIMEZONE
TZID:UTC
BEGIN:STANDARD
DTSTART:20250727T234757Z
TZOFFSETFROM:+0000
TZOFFSETTO:+0000
END:STANDARD
END:VTIMEZONE
BEGIN:VEVENT
UID:2194-157
DTSTAMP:20260423T234757Z
SUMMARY:Caught In The Net - Whitby Pavilion
LOCATION:Whitby Pavilion West Cliff  Whitby North Yorkshire YO21 3EN
ORGANIZER;CN=JS:MAILTO:info@completeinternetservices.co.uk
DTSTART;TZID=Europe/London:20150813T193000
DTEND;TZID=Europe/London:20150813T203000
X-ALT-DESC;FMTTYPE=TEXT/HTML:<p>Bigamist taxi driver John Smith is keeping 
 his two families in different parts of Leeds\, both happy and blissfully u
 naware of each other.</p>\n
CATEGORIES:Plays
URL;VALUE=URI:https://whitby.co.uk/mc-events/caught-in-the-net-whitby-pavil
 ion-5/
METHOD:PUBLISH
END:VEVENT
END:VCALENDAR