BEGIN:VCALENDAR
VERSION:2.0
PRODID:spatie/icalendar-generator
DESCRIPTION:Events from Whitby
X-WR-CALDESC:Events from Whitby
REFRESH-INTERVAL;VALUE=DURATION:PT1440M
X-PUBLISHED-TTL:PT1440M
BEGIN:VTIMEZONE
TZID:Europe/London
BEGIN:DAYLIGHT
DTSTART:20150329T010000Z
TZOFFSETFROM:+0000
TZOFFSETTO:+0100
END:DAYLIGHT
BEGIN:STANDARD
DTSTART:20151025T020000Z
TZOFFSETFROM:+0100
TZOFFSETTO:+0000
END:STANDARD
BEGIN:DAYLIGHT
DTSTART:20160327T010000Z
TZOFFSETFROM:+0000
TZOFFSETTO:+0100
END:DAYLIGHT
END:VTIMEZONE
BEGIN:VTIMEZONE
TZID:UTC
BEGIN:STANDARD
DTSTART:20250727T171455Z
TZOFFSETFROM:+0000
TZOFFSETTO:+0000
END:STANDARD
END:VTIMEZONE
BEGIN:VEVENT
UID:2180-143
DTSTAMP:20260423T171455Z
SUMMARY:Spooky Stories - Whitby Abbey
LOCATION:Whitby Abbey Whitby Lane  Whitby North Yorkshire YO22 4JT
ORGANIZER;CN=JS:MAILTO:info@completeinternetservices.co.uk
DTSTART;TZID=Europe/London:20151027T110000
DTEND;TZID=Europe/London:20151027T170000
X-ALT-DESC;FMTTYPE=TEXT/HTML:<p>Come and enjoy Halloween fun and hear spook
 y stories...if you dare!</p>\n
CATEGORIES:Family Entertainment
URL;VALUE=URI:https://whitby.co.uk/mc-events/spooky-stories-whitby-abbey-4/
METHOD:PUBLISH
END:VEVENT
END:VCALENDAR