BEGIN:VCALENDAR
VERSION:2.0
PRODID:spatie/icalendar-generator
DESCRIPTION:Events from Whitby
X-WR-CALDESC:Events from Whitby
REFRESH-INTERVAL;VALUE=DURATION:PT1440M
X-PUBLISHED-TTL:PT1440M
BEGIN:VTIMEZONE
TZID:Europe/London
BEGIN:DAYLIGHT
DTSTART:20150329T010000Z
TZOFFSETFROM:+0000
TZOFFSETTO:+0100
END:DAYLIGHT
BEGIN:STANDARD
DTSTART:20151025T020000Z
TZOFFSETFROM:+0100
TZOFFSETTO:+0000
END:STANDARD
END:VTIMEZONE
BEGIN:VTIMEZONE
TZID:UTC
BEGIN:STANDARD
DTSTART:20250727T234757Z
TZOFFSETFROM:+0000
TZOFFSETTO:+0000
END:STANDARD
END:VTIMEZONE
BEGIN:VEVENT
UID:2166-129
DTSTAMP:20260423T234757Z
SUMMARY:Hands on History Crew \"GO GRUESOME\" - Whitby Abbey
LOCATION:Whitby Abbey Whitby Lane  Whitby North Yorkshire YO22 4JT
ORGANIZER;CN=JS:MAILTO:info@completeinternetservices.co.uk
DTSTART;TZID=Europe/London:20150728T110000
DTEND;TZID=Europe/London:20150728T170000
X-ALT-DESC;FMTTYPE=TEXT/HTML:<p>This Summer join our Hands On History Crew 
 and discover the horrors of the Plague and medieval burials with a range o
 f children’s interactive activities.</p>\n
CATEGORIES:Family Entertainment
URL;VALUE=URI:https://whitby.co.uk/mc-events/hands-on-history-crew-go-grues
 ome-whitby-abbey-2/
METHOD:PUBLISH
END:VEVENT
END:VCALENDAR