BEGIN:VCALENDAR
VERSION:2.0
PRODID:spatie/icalendar-generator
DESCRIPTION:Events from Whitby
X-WR-CALDESC:Events from Whitby
REFRESH-INTERVAL;VALUE=DURATION:PT1440M
X-PUBLISHED-TTL:PT1440M
BEGIN:VTIMEZONE
TZID:Europe/London
BEGIN:DAYLIGHT
DTSTART:20150329T010000Z
TZOFFSETFROM:+0000
TZOFFSETTO:+0100
END:DAYLIGHT
BEGIN:STANDARD
DTSTART:20151025T020000Z
TZOFFSETFROM:+0100
TZOFFSETTO:+0000
END:STANDARD
END:VTIMEZONE
BEGIN:VTIMEZONE
TZID:UTC
BEGIN:STANDARD
DTSTART:20250729T125932Z
TZOFFSETFROM:+0000
TZOFFSETTO:+0000
END:STANDARD
END:VTIMEZONE
BEGIN:VEVENT
UID:2164-127
DTSTAMP:20260425T125932Z
SUMMARY:Dracula -Whitby Abbey
LOCATION:Whitby Abbey Whitby Lane  Whitby North Yorkshire YO22 4JT
ORGANIZER;CN=JS:MAILTO:info@completeinternetservices.co.uk
DTSTART;TZID=Europe/London:20150726T133000
DTEND;TZID=Europe/London:20150726T143000
X-ALT-DESC;FMTTYPE=TEXT/HTML:<p>Take in the gothic splendour of one of the 
 most atmospheric abbeys in England\, as three actors bring the famous stor
 y of Dracula to life before your eyes. Promenade performances suitable for
  all the family.</p>\n
CATEGORIES:Displays
URL;VALUE=URI:https://whitby.co.uk/mc-events/dracula-whitby-abbey-4/
METHOD:PUBLISH
END:VEVENT
END:VCALENDAR