BEGIN:VCALENDAR
VERSION:2.0
PRODID:spatie/icalendar-generator
DESCRIPTION:Events from Whitby
X-WR-CALDESC:Events from Whitby
REFRESH-INTERVAL;VALUE=DURATION:PT1440M
X-PUBLISHED-TTL:PT1440M
BEGIN:VTIMEZONE
TZID:Europe/London
BEGIN:DAYLIGHT
DTSTART:20150329T010000Z
TZOFFSETFROM:+0000
TZOFFSETTO:+0100
END:DAYLIGHT
BEGIN:STANDARD
DTSTART:20151025T020000Z
TZOFFSETFROM:+0100
TZOFFSETTO:+0000
END:STANDARD
END:VTIMEZONE
BEGIN:VTIMEZONE
TZID:UTC
BEGIN:STANDARD
DTSTART:20250727T171455Z
TZOFFSETFROM:+0000
TZOFFSETTO:+0000
END:STANDARD
END:VTIMEZONE
BEGIN:VEVENT
UID:2140-103
DTSTAMP:20260423T171455Z
SUMMARY:All things considered  - Eskdale Valley Theatre
LOCATION:Eskdale Valley Theatre   Glaisdale North Yorkshire YO21 2PW
ORGANIZER;CN=JS:MAILTO:info@completeinternetservices.co.uk
DTSTART;TZID=Europe/London:20150814T193000
DTEND;TZID=Europe/London:20150814T203000
X-ALT-DESC;FMTTYPE=TEXT/HTML:<p>Professional theatre company based in the E
 sk Valley in the North York Moors National Park. We present a lively and e
 xciting theatre season at the Robinson Institute in Glaisdale every August
 \, with various one-off events throughout the year. You can enjoy pre-thea
 tre dinner\, drinks on the lawn and professional theatre in an unusual set
 ting</p>\n
CATEGORIES:Theatre
URL;VALUE=URI:https://whitby.co.uk/mc-events/all-things-considered-eskdale-
 valley-theatre-8/
METHOD:PUBLISH
END:VEVENT
END:VCALENDAR