BEGIN:VCALENDAR
VERSION:2.0
PRODID:spatie/icalendar-generator
DESCRIPTION:Events from Whitby
X-WR-CALDESC:Events from Whitby
REFRESH-INTERVAL;VALUE=DURATION:PT1440M
X-PUBLISHED-TTL:PT1440M
BEGIN:VTIMEZONE
TZID:Europe/London
BEGIN:DAYLIGHT
DTSTART:20150329T010000Z
TZOFFSETFROM:+0000
TZOFFSETTO:+0100
END:DAYLIGHT
BEGIN:STANDARD
DTSTART:20151025T020000Z
TZOFFSETFROM:+0100
TZOFFSETTO:+0000
END:STANDARD
END:VTIMEZONE
BEGIN:VTIMEZONE
TZID:UTC
BEGIN:STANDARD
DTSTART:20250727T215803Z
TZOFFSETFROM:+0000
TZOFFSETTO:+0000
END:STANDARD
END:VTIMEZONE
BEGIN:VEVENT
UID:2125-88
DTSTAMP:20260423T215803Z
SUMMARY:Whitby Regatta Sportive Cycle Ride - Whitby Regatta
LOCATION:Whitby   Whitby North Yorkshire YO21
ORGANIZER;CN=JS:MAILTO:info@completeinternetservices.co.uk
DTSTART;TZID=Europe/London:20150815T080000
DTEND;TZID=Europe/London:20150815T090000
X-ALT-DESC;FMTTYPE=TEXT/HTML:<p>A new and exciting part of the 2015 Regatta
 \, the Velo29-Altur sportive cycle ride is a great opportunity for riders 
 of all abilities to join with 100's of other local riders on a variety of 
 routes from Whitby</p>\n
CATEGORIES:Sport
URL;VALUE=URI:https://whitby.co.uk/mc-events/whitby-regatta-sportive-cycle-
 ride-whitby-regatta/
METHOD:PUBLISH
END:VEVENT
END:VCALENDAR