BEGIN:VCALENDAR
VERSION:2.0
PRODID:spatie/icalendar-generator
DESCRIPTION:Events from Whitby
X-WR-CALDESC:Events from Whitby
REFRESH-INTERVAL;VALUE=DURATION:PT1440M
X-PUBLISHED-TTL:PT1440M
BEGIN:VTIMEZONE
TZID:Europe/London
BEGIN:DAYLIGHT
DTSTART:20150329T010000Z
TZOFFSETFROM:+0000
TZOFFSETTO:+0100
END:DAYLIGHT
BEGIN:STANDARD
DTSTART:20151025T020000Z
TZOFFSETFROM:+0100
TZOFFSETTO:+0000
END:STANDARD
END:VTIMEZONE
BEGIN:VTIMEZONE
TZID:UTC
BEGIN:STANDARD
DTSTART:20250729T110305Z
TZOFFSETFROM:+0000
TZOFFSETTO:+0000
END:STANDARD
END:VTIMEZONE
BEGIN:VEVENT
UID:2104-67
DTSTAMP:20260425T110305Z
SUMMARY:Fireworks Display - Whitby Regatta
LOCATION:
ORGANIZER;CN=JS:MAILTO:info@completeinternetservices.co.uk
DTSTART;TZID=Europe/London:20150817T214500
DTEND;TZID=Europe/London:20150817T224500
X-ALT-DESC;FMTTYPE=TEXT/HTML:<p>Vivid blue\, aqua\, purple\, red and silver
  shells will look incredible over Whitby as the colours reflect on water. 
 Reaching a height of 500 to 600 feet and bursting spectacularly in the sky
 .</p>\n
CATEGORIES:Show
URL;VALUE=URI:https://whitby.co.uk/mc-events/fireworks-display-whitby-regat
 ta-3/
METHOD:PUBLISH
END:VEVENT
END:VCALENDAR