BEGIN:VCALENDAR
VERSION:2.0
PRODID:spatie/icalendar-generator
DESCRIPTION:Events from Whitby
X-WR-CALDESC:Events from Whitby
REFRESH-INTERVAL;VALUE=DURATION:PT1440M
X-PUBLISHED-TTL:PT1440M
BEGIN:VTIMEZONE
TZID:Europe/London
BEGIN:DAYLIGHT
DTSTART:20150329T010000Z
TZOFFSETFROM:+0000
TZOFFSETTO:+0100
END:DAYLIGHT
BEGIN:STANDARD
DTSTART:20151025T020000Z
TZOFFSETFROM:+0100
TZOFFSETTO:+0000
END:STANDARD
END:VTIMEZONE
BEGIN:VTIMEZONE
TZID:UTC
BEGIN:STANDARD
DTSTART:20250728T011920Z
TZOFFSETFROM:+0000
TZOFFSETTO:+0000
END:STANDARD
END:VTIMEZONE
BEGIN:VEVENT
UID:2099-55
DTSTAMP:20260424T011920Z
SUMMARY:Whitby Lion’s Beer Festival 2015
LOCATION:Whitby   Whitby North Yorkshire YO21
ORGANIZER;CN=JS:MAILTO:info@completeinternetservices.co.uk
RRULE:FREQ=DAILY;COUNT=4
DTSTART;TZID=Europe/London:20150803T080000
DTEND;TZID=Europe/London:20150803T090000
X-ALT-DESC;FMTTYPE=TEXT/HTML:<p>30th July until Sunday 2nd August\, celebra
 ting some of the finest local and regional handcrafted real ales that are 
 produced by a range of widely credited Micro Breweries.</p>\n
CATEGORIES:Festival
URL;VALUE=URI:https://whitby.co.uk/mc-events/whitby-lions-beer-festival-201
 5/?mc_id=2099
METHOD:PUBLISH
END:VEVENT
END:VCALENDAR