BEGIN:VCALENDAR
VERSION:2.0
PRODID:spatie/icalendar-generator
DESCRIPTION:Events from Whitby
X-WR-CALDESC:Events from Whitby
REFRESH-INTERVAL;VALUE=DURATION:PT1440M
X-PUBLISHED-TTL:PT1440M
BEGIN:VTIMEZONE
TZID:Europe/London
BEGIN:STANDARD
DTSTART:20141026T020000Z
TZOFFSETFROM:+0100
TZOFFSETTO:+0000
END:STANDARD
BEGIN:DAYLIGHT
DTSTART:20150329T010000Z
TZOFFSETFROM:+0000
TZOFFSETTO:+0100
END:DAYLIGHT
BEGIN:STANDARD
DTSTART:20151025T020000Z
TZOFFSETFROM:+0100
TZOFFSETTO:+0000
END:STANDARD
END:VTIMEZONE
BEGIN:VTIMEZONE
TZID:UTC
BEGIN:STANDARD
DTSTART:20250727T234757Z
TZOFFSETFROM:+0000
TZOFFSETTO:+0000
END:STANDARD
END:VTIMEZONE
BEGIN:VEVENT
UID:2089-62
DTSTAMP:20260423T234757Z
SUMMARY:Whitby Sea Festival
LOCATION:Whitby   Whitby North Yorkshire YO21
ORGANIZER;CN=JS:MAILTO:info@completeinternetservices.co.uk
DTSTART;TZID=Europe/London:20150711T070000
DTEND;TZID=Europe/London:20150711T080000
X-ALT-DESC;FMTTYPE=TEXT/HTML:Whitby Sea Festival is an annual festival whic
 h takes place in and around the historic Yorkshire seaport of Whitby\, one
  of Britain's premier maritime heritage sites. The festival celebrates Whi
 tby and the Yorkshire Coast's proud connections to fishing\, the sea and m
 aritime heritage. Since its beginnings in 1993 as The Captain Cook Festiva
 l and then&amp;hellip\;
CATEGORIES:Town Events
URL;VALUE=URI:https://whitby.co.uk/mc-events/whitby-sea-festival-3/
METHOD:PUBLISH
END:VEVENT
END:VCALENDAR