BEGIN:VCALENDAR
VERSION:2.0
PRODID:spatie/icalendar-generator
DESCRIPTION:Events from Whitby
X-WR-CALDESC:Events from Whitby
REFRESH-INTERVAL;VALUE=DURATION:PT1440M
X-PUBLISHED-TTL:PT1440M
BEGIN:VTIMEZONE
TZID:Europe/London
BEGIN:DAYLIGHT
DTSTART:20150329T010000Z
TZOFFSETFROM:+0000
TZOFFSETTO:+0100
END:DAYLIGHT
BEGIN:STANDARD
DTSTART:20151025T020000Z
TZOFFSETFROM:+0100
TZOFFSETTO:+0000
END:STANDARD
END:VTIMEZONE
BEGIN:VTIMEZONE
TZID:UTC
BEGIN:STANDARD
DTSTART:20250727T233302Z
TZOFFSETFROM:+0000
TZOFFSETTO:+0000
END:STANDARD
END:VTIMEZONE
BEGIN:VEVENT
UID:19-12
DTSTAMP:20260423T233302Z
SUMMARY:Musicport Open Mic Whitby
LOCATION:Whitby Pavilion West Cliff  Whitby North Yorkshire YO21 3EN
ORGANIZER;CN=JS:MAILTO:info@completeinternetservices.co.uk
DTSTART;TZID=Europe/London:20150802T133000
DTEND;TZID=Europe/London:20150802T163000
X-ALT-DESC;FMTTYPE=TEXT/HTML:The Musicport team are pleased to announce the
  Sunday Lunchtime Open Mic sessions in the relaxed family friendly athmosp
 here of Whitby Pavilion's newly refurbished cafe.
CATEGORIES:Music
URL;VALUE=URI:https://whitby.co.uk/mc-events/musicport-open-mic-whitby-2/
METHOD:PUBLISH
END:VEVENT
END:VCALENDAR