BEGIN:VCALENDAR
VERSION:2.0
PRODID:spatie/icalendar-generator
DESCRIPTION:Events from Whitby
X-WR-CALDESC:Events from Whitby
REFRESH-INTERVAL;VALUE=DURATION:PT1440M
X-PUBLISHED-TTL:PT1440M
BEGIN:VTIMEZONE
TZID:Europe/London
BEGIN:DAYLIGHT
DTSTART:20150329T010000Z
TZOFFSETFROM:+0000
TZOFFSETTO:+0100
END:DAYLIGHT
BEGIN:STANDARD
DTSTART:20151025T020000Z
TZOFFSETFROM:+0100
TZOFFSETTO:+0000
END:STANDARD
END:VTIMEZONE
BEGIN:VTIMEZONE
TZID:UTC
BEGIN:STANDARD
DTSTART:20250728T000118Z
TZOFFSETFROM:+0000
TZOFFSETTO:+0000
END:STANDARD
END:VTIMEZONE
BEGIN:VEVENT
UID:17-10
DTSTAMP:20260424T000118Z
SUMMARY:Tea Dances with Ray Kirk - Whitby
LOCATION:
ORGANIZER;CN=JS:MAILTO:info@completeinternetservices.co.uk
DTSTART;TZID=Europe/London:20150908T133000
DTEND;TZID=Europe/London:20150908T143000
X-ALT-DESC;FMTTYPE=TEXT/HTML:Tuesday Afternoons From 1.30pm £3.75 per pers
 on. We invite you to put on your dancing shoes and dance the afternoon awa
 y in the wonderful surroundings of The Northern Lights Suite. Join us for 
 this friendly social dance session where Ray Kirk plays a mixed dance prog
 ramme with the opportunity to make requests. Coach trips and&amp;hellip\;
CATEGORIES:Dance
URL;VALUE=URI:https://whitby.co.uk/mc-events/tea-dances-with-ray-kirk-whitb
 y-12/
METHOD:PUBLISH
END:VEVENT
END:VCALENDAR