BEGIN:VCALENDAR
VERSION:2.0
PRODID:spatie/icalendar-generator
DESCRIPTION:Events from Whitby
X-WR-CALDESC:Events from Whitby
REFRESH-INTERVAL;VALUE=DURATION:PT1440M
X-PUBLISHED-TTL:PT1440M
BEGIN:VTIMEZONE
TZID:Europe/London
BEGIN:DAYLIGHT
DTSTART:20150329T010000Z
TZOFFSETFROM:+0000
TZOFFSETTO:+0100
END:DAYLIGHT
BEGIN:STANDARD
DTSTART:20151025T020000Z
TZOFFSETFROM:+0100
TZOFFSETTO:+0000
END:STANDARD
END:VTIMEZONE
BEGIN:VTIMEZONE
TZID:UTC
BEGIN:STANDARD
DTSTART:20250728T001600Z
TZOFFSETFROM:+0000
TZOFFSETTO:+0000
END:STANDARD
END:VTIMEZONE
BEGIN:VEVENT
UID:61-50
DTSTAMP:20260424T001600Z
SUMMARY:Mission Impossible: Rogue Nation - Whitby
LOCATION:Whitby Pavilion West Cliff  Whitby North Yorkshire YO21 3EN
ORGANIZER;CN=JS:MAILTO:info@completeinternetservices.co.uk
DTSTART;TZID=Europe/London:20150903T143000
DTEND;TZID=Europe/London:20150903T153000
X-ALT-DESC;FMTTYPE=TEXT/HTML:After the events of Ghost Protocol\, the IMF i
 s being disbanded\, and all its agents find themselves without the safety 
 of their group identity. Ethan Hunt however\, is nowhere to be found\, and
  the CIA begin to ask questions. Turns out he’s off investigating the my
 sterious organisation of assassins known as the Syndicate. After a&amp;hellip\
 ;
CATEGORIES:Cinema
URL;VALUE=URI:https://whitby.co.uk/mc-events/mission-impossible-rogue-natio
 n-whitby-4/
METHOD:PUBLISH
END:VEVENT
END:VCALENDAR