BEGIN:VCALENDAR
VERSION:2.0
PRODID:spatie/icalendar-generator
DESCRIPTION:Events from Whitby
X-WR-CALDESC:Events from Whitby
REFRESH-INTERVAL;VALUE=DURATION:PT1440M
X-PUBLISHED-TTL:PT1440M
BEGIN:VTIMEZONE
TZID:Europe/London
BEGIN:STANDARD
DTSTART:20141026T020000Z
TZOFFSETFROM:+0100
TZOFFSETTO:+0000
END:STANDARD
BEGIN:DAYLIGHT
DTSTART:20150329T010000Z
TZOFFSETFROM:+0000
TZOFFSETTO:+0100
END:DAYLIGHT
BEGIN:STANDARD
DTSTART:20151025T020000Z
TZOFFSETFROM:+0100
TZOFFSETTO:+0000
END:STANDARD
END:VTIMEZONE
BEGIN:VTIMEZONE
TZID:UTC
BEGIN:STANDARD
DTSTART:20250729T124527Z
TZOFFSETFROM:+0000
TZOFFSETTO:+0000
END:STANDARD
END:VTIMEZONE
BEGIN:VEVENT
UID:47-36
DTSTAMP:20260425T124527Z
SUMMARY:Mr Holmes (PG) - Whitby
LOCATION:Whitby Pavilion West Cliff  Whitby North Yorkshire YO21 3EN
ORGANIZER;CN=JS:MAILTO:info@completeinternetservices.co.uk
DTSTART;TZID=Europe/London:20150720T143000
DTEND;TZID=Europe/London:20150720T153000
X-ALT-DESC;FMTTYPE=TEXT/HTML:It is 1947\, and Sherlock Holmes lives in the 
 peace and quiet of his Sussex home\, surrounded by the bees he keeps\, as 
 well as his housekeeper and her son. Sherlock is 93 now\, and as he attemp
 ts to recall the details of his last case\, he finds that the minutiae beg
 in to slip away&amp;hellip\;
CATEGORIES:Cinema
URL;VALUE=URI:https://whitby.co.uk/mc-events/mr-holmes-pg-whitby-2/
METHOD:PUBLISH
END:VEVENT
END:VCALENDAR