BEGIN:VCALENDAR
VERSION:2.0
PRODID:spatie/icalendar-generator
DESCRIPTION:Events from Whitby
X-WR-CALDESC:Events from Whitby
REFRESH-INTERVAL;VALUE=DURATION:PT1440M
X-PUBLISHED-TTL:PT1440M
BEGIN:VTIMEZONE
TZID:Europe/London
BEGIN:DAYLIGHT
DTSTART:20150329T010000Z
TZOFFSETFROM:+0000
TZOFFSETTO:+0100
END:DAYLIGHT
BEGIN:STANDARD
DTSTART:20151025T020000Z
TZOFFSETFROM:+0100
TZOFFSETTO:+0000
END:STANDARD
END:VTIMEZONE
BEGIN:VTIMEZONE
TZID:UTC
BEGIN:STANDARD
DTSTART:20250727T185953Z
TZOFFSETFROM:+0000
TZOFFSETTO:+0000
END:STANDARD
END:VTIMEZONE
BEGIN:VEVENT
UID:31-20
DTSTAMP:20260423T185953Z
SUMMARY:Minions (U) Whitby
LOCATION:Whitby Pavilion West Cliff  Whitby North Yorkshire YO21 3EN
ORGANIZER;CN=JS:MAILTO:info@completeinternetservices.co.uk
DTSTART;TZID=Europe/London:20150725T163000
DTEND;TZID=Europe/London:20150725T173000
X-ALT-DESC;FMTTYPE=TEXT/HTML:Over thousands of centuries\, the Minions have
  travelled the globe with just one aim in life – to find themselves a st
 rong\, powerful leader to give them guidance\, balance and of course\, a s
 ource of food. Along the way they manage to acquire a huge variety of diff
 erent leaders\, from an almighty dinosaur\, to the&amp;hellip\;
CATEGORIES:Cinema
URL;VALUE=URI:https://whitby.co.uk/mc-events/minions-u-whitby-2/
METHOD:PUBLISH
END:VEVENT
END:VCALENDAR