BEGIN:VCALENDAR
VERSION:2.0
PRODID:spatie/icalendar-generator
DESCRIPTION:Events from Whitby
X-WR-CALDESC:Events from Whitby
REFRESH-INTERVAL;VALUE=DURATION:PT1440M
X-PUBLISHED-TTL:PT1440M
BEGIN:VTIMEZONE
TZID:Europe/London
BEGIN:DAYLIGHT
DTSTART:20160327T010000Z
TZOFFSETFROM:+0000
TZOFFSETTO:+0100
END:DAYLIGHT
BEGIN:STANDARD
DTSTART:20161030T020000Z
TZOFFSETFROM:+0100
TZOFFSETTO:+0000
END:STANDARD
BEGIN:DAYLIGHT
DTSTART:20170326T010000Z
TZOFFSETFROM:+0000
TZOFFSETTO:+0100
END:DAYLIGHT
END:VTIMEZONE
BEGIN:VTIMEZONE
TZID:UTC
BEGIN:STANDARD
DTSTART:20250727T183333Z
TZOFFSETFROM:+0000
TZOFFSETTO:+0000
END:STANDARD
END:VTIMEZONE
BEGIN:VEVENT
UID:2315-254
DTSTAMP:20260423T183333Z
SUMMARY:The Whitby Regatta 2016
LOCATION:Whitby   Whitby North Yorkshire YO21
ORGANIZER;CN=JS:MAILTO:info@completeinternetservices.co.uk
DTSTART;TZID=Europe/London;VALUE=DATE:20161022
DTEND;TZID=Europe/London;VALUE=DATE:20161023
X-ALT-DESC;FMTTYPE=TEXT/HTML:<p>One hundred and seventy six years of aquati
 c competition and entertainment. The Whitby Regatta is probably the oldest
  sea Regatta on the northeast coast and has drawn large crowds into Whitby
  over the years.</p>\n
CATEGORIES:Festival
URL;VALUE=URI:https://whitby.co.uk/mc-events/the-whitby-regatta-2016-4/
METHOD:PUBLISH
END:VEVENT
END:VCALENDAR