BEGIN:VCALENDAR
VERSION:2.0
PRODID:spatie/icalendar-generator
DESCRIPTION:Events from Whitby
X-WR-CALDESC:Events from Whitby
REFRESH-INTERVAL;VALUE=DURATION:PT1440M
X-PUBLISHED-TTL:PT1440M
BEGIN:VTIMEZONE
TZID:Europe/London
BEGIN:DAYLIGHT
DTSTART:20160327T010000Z
TZOFFSETFROM:+0000
TZOFFSETTO:+0100
END:DAYLIGHT
BEGIN:STANDARD
DTSTART:20161030T020000Z
TZOFFSETFROM:+0100
TZOFFSETTO:+0000
END:STANDARD
BEGIN:DAYLIGHT
DTSTART:20170326T010000Z
TZOFFSETFROM:+0000
TZOFFSETTO:+0100
END:DAYLIGHT
END:VTIMEZONE
BEGIN:VTIMEZONE
TZID:UTC
BEGIN:STANDARD
DTSTART:20250727T220712Z
TZOFFSETFROM:+0000
TZOFFSETTO:+0000
END:STANDARD
END:VTIMEZONE
BEGIN:VEVENT
UID:2301-240
DTSTAMP:20260423T220712Z
SUMMARY:WHITBY 60'S SPECTACULAR 2016
LOCATION:Whitby Pavilion West Cliff  Whitby North Yorkshire YO21 3EN
ORGANIZER;CN=JS:MAILTO:info@completeinternetservices.co.uk
DTSTART;TZID=Europe/London;VALUE=DATE:20160924
DTEND;TZID=Europe/London;VALUE=DATE:20160925
X-ALT-DESC;FMTTYPE=TEXT/HTML:<p>Whitby Live brings you a weekend of live si
 xties music from some of the biggest bands of the decade. Dig out your fin
 est 60's fashion and join us for a weekend you'll never forget.</p>\n
CATEGORIES:Music
URL;VALUE=URI:https://whitby.co.uk/mc-events/whitby-60s-spectacular-2016-2/
METHOD:PUBLISH
END:VEVENT
END:VCALENDAR