BEGIN:VCALENDAR
VERSION:2.0
PRODID:spatie/icalendar-generator
DESCRIPTION:Events from Whitby
X-WR-CALDESC:Events from Whitby
REFRESH-INTERVAL;VALUE=DURATION:PT1440M
X-PUBLISHED-TTL:PT1440M
BEGIN:VTIMEZONE
TZID:Europe/London
BEGIN:STANDARD
DTSTART:20141026T020000Z
TZOFFSETFROM:+0100
TZOFFSETTO:+0000
END:STANDARD
BEGIN:DAYLIGHT
DTSTART:20150329T010000Z
TZOFFSETFROM:+0000
TZOFFSETTO:+0100
END:DAYLIGHT
BEGIN:STANDARD
DTSTART:20151025T020000Z
TZOFFSETFROM:+0100
TZOFFSETTO:+0000
END:STANDARD
END:VTIMEZONE
BEGIN:VTIMEZONE
TZID:UTC
BEGIN:STANDARD
DTSTART:20250729T124607Z
TZOFFSETFROM:+0000
TZOFFSETTO:+0000
END:STANDARD
END:VTIMEZONE
BEGIN:VEVENT
UID:23-16
DTSTAMP:20260425T124607Z
SUMMARY:Starburst 2015 Whitby
LOCATION:Whitby Pavilion West Cliff  Whitby North Yorkshire YO21 3EN
ORGANIZER;CN=JS:MAILTO:info@completeinternetservices.co.uk
DTSTART;TZID=Europe/London:20150718T140000
DTEND;TZID=Europe/London:20150718T150000
X-ALT-DESC;FMTTYPE=TEXT/HTML:Starstruck present their annual summer dance s
 pectacular! Expect everything from street dance to jazz to tap as they per
 form everything from West End Musicals to High Edge pop. Including hits fr
 om Saturday Night Fever\, Madonna\, Paloma Faith\, The songs from the Musi
 cals and an excerpt from the spectacular Cirque D' Soleil. It’s sure to 
 be&amp;hellip\;
CATEGORIES:Show
URL;VALUE=URI:https://whitby.co.uk/mc-events/starburst-2015-whitby-2/
METHOD:PUBLISH
END:VEVENT
END:VCALENDAR