BEGIN:VCALENDAR
VERSION:2.0
PRODID:spatie/icalendar-generator
DESCRIPTION:Events from Whitby
X-WR-CALDESC:Events from Whitby
REFRESH-INTERVAL;VALUE=DURATION:PT1440M
X-PUBLISHED-TTL:PT1440M
BEGIN:VTIMEZONE
TZID:Europe/London
BEGIN:DAYLIGHT
DTSTART:20160327T010000Z
TZOFFSETFROM:+0000
TZOFFSETTO:+0100
END:DAYLIGHT
BEGIN:STANDARD
DTSTART:20161030T020000Z
TZOFFSETFROM:+0100
TZOFFSETTO:+0000
END:STANDARD
END:VTIMEZONE
BEGIN:VTIMEZONE
TZID:UTC
BEGIN:STANDARD
DTSTART:20250728T001601Z
TZOFFSETFROM:+0000
TZOFFSETTO:+0000
END:STANDARD
END:VTIMEZONE
BEGIN:VEVENT
UID:2299-238
DTSTAMP:20260424T001601Z
SUMMARY:MOTOWN SOUL WEEKENDER 2016 Whitby
LOCATION:Whitby Pavilion West Cliff  Whitby North Yorkshire YO21 3EN
ORGANIZER;CN=JS:MAILTO:info@completeinternetservices.co.uk
DTSTART;TZID=Europe/London:20160917T080000
DTEND;TZID=Europe/London:20160917T230000
X-ALT-DESC;FMTTYPE=TEXT/HTML:<p>For those who want a lighter weekender with
  more familiar favourites from the world of Motown and Soul's golden era(6
 0's-80's)\, Whitby Pavilion is the perfect venue.</p>\n
CATEGORIES:Music
URL;VALUE=URI:https://whitby.co.uk/mc-events/motown-soul-weekender-2016-whi
 tby-2/
METHOD:PUBLISH
END:VEVENT
END:VCALENDAR