BEGIN:VCALENDAR
VERSION:2.0
PRODID:spatie/icalendar-generator
DESCRIPTION:Events from Whitby
X-WR-CALDESC:Events from Whitby
REFRESH-INTERVAL;VALUE=DURATION:PT1440M
X-PUBLISHED-TTL:PT1440M
BEGIN:VTIMEZONE
TZID:Europe/London
BEGIN:STANDARD
DTSTART:20151025T020000Z
TZOFFSETFROM:+0100
TZOFFSETTO:+0000
END:STANDARD
BEGIN:DAYLIGHT
DTSTART:20160327T010000Z
TZOFFSETFROM:+0000
TZOFFSETTO:+0100
END:DAYLIGHT
BEGIN:STANDARD
DTSTART:20161030T020000Z
TZOFFSETFROM:+0100
TZOFFSETTO:+0000
END:STANDARD
END:VTIMEZONE
BEGIN:VTIMEZONE
TZID:UTC
BEGIN:STANDARD
DTSTART:20250727T205753Z
TZOFFSETFROM:+0000
TZOFFSETTO:+0000
END:STANDARD
END:VTIMEZONE
BEGIN:VEVENT
UID:2287-226
DTSTAMP:20260423T205753Z
SUMMARY:WHITBY SOUL WEEKENDER
LOCATION:Whitby Pavilion West Cliff  Whitby North Yorkshire YO21 3EN
ORGANIZER;CN=JS:MAILTO:info@completeinternetservices.co.uk
DTSTART;TZID=Europe/London:20160702T210000
DTEND;TZID=Europe/London:20160702T033000
X-ALT-DESC;FMTTYPE=TEXT/HTML:<p>Two huge rooms at the Whitby Pavilion offer
 ing Northern Soul Classics\, Motown favourites plus current In - demanders
  on a superb dancefloor).</p>\n
CATEGORIES:Music
URL;VALUE=URI:https://whitby.co.uk/mc-events/whitby-soul-weekender-4/
METHOD:PUBLISH
END:VEVENT
END:VCALENDAR