BEGIN:VCALENDAR
VERSION:2.0
PRODID:spatie/icalendar-generator
DESCRIPTION:Events from Whitby
X-WR-CALDESC:Events from Whitby
REFRESH-INTERVAL;VALUE=DURATION:PT1440M
X-PUBLISHED-TTL:PT1440M
BEGIN:VTIMEZONE
TZID:Europe/London
BEGIN:STANDARD
DTSTART:20151025T020000Z
TZOFFSETFROM:+0100
TZOFFSETTO:+0000
END:STANDARD
BEGIN:DAYLIGHT
DTSTART:20160327T010000Z
TZOFFSETFROM:+0000
TZOFFSETTO:+0100
END:DAYLIGHT
BEGIN:STANDARD
DTSTART:20161030T020000Z
TZOFFSETFROM:+0100
TZOFFSETTO:+0000
END:STANDARD
END:VTIMEZONE
BEGIN:VTIMEZONE
TZID:UTC
BEGIN:STANDARD
DTSTART:20250727T183304Z
TZOFFSETFROM:+0000
TZOFFSETTO:+0000
END:STANDARD
END:VTIMEZONE
BEGIN:VEVENT
UID:2280-219
DTSTAMP:20260423T183304Z
SUMMARY:Whitby 60's Festival 2016
LOCATION:Whitby Pavilion West Cliff  Whitby North Yorkshire YO21 3EN
ORGANIZER;CN=JS:MAILTO:info@completeinternetservices.co.uk
DTSTART;TZID=Europe/London:20160612T120000
DTEND;TZID=Europe/London:20160612T130000
X-ALT-DESC;FMTTYPE=TEXT/HTML:<p>For the fan of sixties music there’s nowh
 ere better than WHITBY LIVE Music Shows &amp; Festival on North Yorkshire's ma
 gnificent east coast.</p>\n
CATEGORIES:Cinema
URL;VALUE=URI:https://whitby.co.uk/mc-events/whitby-60s-festival-2016-3/
METHOD:PUBLISH
END:VEVENT
END:VCALENDAR