BEGIN:VCALENDAR
VERSION:2.0
PRODID:spatie/icalendar-generator
DESCRIPTION:Events from Whitby
X-WR-CALDESC:Events from Whitby
REFRESH-INTERVAL;VALUE=DURATION:PT1440M
X-PUBLISHED-TTL:PT1440M
BEGIN:VTIMEZONE
TZID:Europe/London
BEGIN:DAYLIGHT
DTSTART:20150329T010000Z
TZOFFSETFROM:+0000
TZOFFSETTO:+0100
END:DAYLIGHT
BEGIN:STANDARD
DTSTART:20151025T020000Z
TZOFFSETFROM:+0100
TZOFFSETTO:+0000
END:STANDARD
BEGIN:DAYLIGHT
DTSTART:20160327T010000Z
TZOFFSETFROM:+0000
TZOFFSETTO:+0100
END:DAYLIGHT
END:VTIMEZONE
BEGIN:VTIMEZONE
TZID:UTC
BEGIN:STANDARD
DTSTART:20250727T161105Z
TZOFFSETFROM:+0000
TZOFFSETTO:+0000
END:STANDARD
END:VTIMEZONE
BEGIN:VEVENT
UID:2252-194
DTSTAMP:20260423T161105Z
SUMMARY:Junior Show Business Whitby
LOCATION:Whitby Pavilion West Cliff  Whitby North Yorkshire YO21 3EN
ORGANIZER;CN=JS:MAILTO:info@completeinternetservices.co.uk
DTSTART;TZID=Europe/London:20151127T191500
DTEND;TZID=Europe/London:20151127T201500
X-ALT-DESC;FMTTYPE=TEXT/HTML:<p>The Benson Stage Academy @ WHITBY will pres
 ent their 62nd annual Junior Show Business Variety Show at The Spa Pavilio
 n Theatre Whitby on Friday and Saturday Evenings 27th and 28th November 20
 15 starting at 7.15 pm.</p>\n
CATEGORIES:Show
URL;VALUE=URI:https://whitby.co.uk/mc-events/junior-show-business-whitby/
METHOD:PUBLISH
END:VEVENT
END:VCALENDAR