BEGIN:VCALENDAR
VERSION:2.0
PRODID:spatie/icalendar-generator
DESCRIPTION:Events from Whitby
X-WR-CALDESC:Events from Whitby
REFRESH-INTERVAL;VALUE=DURATION:PT1440M
X-PUBLISHED-TTL:PT1440M
BEGIN:VTIMEZONE
TZID:Europe/London
BEGIN:DAYLIGHT
DTSTART:20150329T010000Z
TZOFFSETFROM:+0000
TZOFFSETTO:+0100
END:DAYLIGHT
BEGIN:STANDARD
DTSTART:20151025T020000Z
TZOFFSETFROM:+0100
TZOFFSETTO:+0000
END:STANDARD
BEGIN:DAYLIGHT
DTSTART:20160327T010000Z
TZOFFSETFROM:+0000
TZOFFSETTO:+0100
END:DAYLIGHT
END:VTIMEZONE
BEGIN:VTIMEZONE
TZID:UTC
BEGIN:STANDARD
DTSTART:20250729T123457Z
TZOFFSETFROM:+0000
TZOFFSETTO:+0000
END:STANDARD
END:VTIMEZONE
BEGIN:VEVENT
UID:2251-193
DTSTAMP:20260425T123457Z
SUMMARY:Whitby Sci Fi and Comic Con
LOCATION:Whitby Pavilion West Cliff  Whitby North Yorkshire YO21 3EN
ORGANIZER;CN=JS:MAILTO:info@completeinternetservices.co.uk
DTSTART;TZID=Europe/London:20151128T100000
DTEND;TZID=Europe/London:20151128T110000
X-ALT-DESC;FMTTYPE=TEXT/HTML:<p>Outpost 31 is bringing a convention of epic
  proportions to Whitby Pavilion to raise funds for early detection of canc
 er\, in memory of inspirational Sharon who dreamed this up.</p>\n
CATEGORIES:Fair
URL;VALUE=URI:https://whitby.co.uk/mc-events/whitby-sci-fi-and-comic-con/
METHOD:PUBLISH
END:VEVENT
END:VCALENDAR