BEGIN:VCALENDAR
VERSION:2.0
PRODID:spatie/icalendar-generator
DESCRIPTION:Events from Whitby
X-WR-CALDESC:Events from Whitby
REFRESH-INTERVAL;VALUE=DURATION:PT1440M
X-PUBLISHED-TTL:PT1440M
BEGIN:VTIMEZONE
TZID:Europe/London
BEGIN:DAYLIGHT
DTSTART:20150329T010000Z
TZOFFSETFROM:+0000
TZOFFSETTO:+0100
END:DAYLIGHT
BEGIN:STANDARD
DTSTART:20151025T020000Z
TZOFFSETFROM:+0100
TZOFFSETTO:+0000
END:STANDARD
BEGIN:DAYLIGHT
DTSTART:20160327T010000Z
TZOFFSETFROM:+0000
TZOFFSETTO:+0100
END:DAYLIGHT
END:VTIMEZONE
BEGIN:VTIMEZONE
TZID:UTC
BEGIN:STANDARD
DTSTART:20250729T123219Z
TZOFFSETFROM:+0000
TZOFFSETTO:+0000
END:STANDARD
END:VTIMEZONE
BEGIN:VEVENT
UID:2242-186
DTSTAMP:20260425T123219Z
SUMMARY:STORMBOUND Whitby Pavilion Complex
LOCATION:Whitby Pavilion West Cliff  Whitby North Yorkshire YO21 3EN
ORGANIZER;CN=JS:MAILTO:info@completeinternetservices.co.uk
DTSTART;TZID=Europe/London:20151111T190000
DTEND;TZID=Europe/London:20151111T200000
X-ALT-DESC;FMTTYPE=TEXT/HTML:<p>A hospital ship wrecked off the coast of Wh
 itby in a raging storm. The tremendous efforts of local lifeboat crews and
  people from the town saved many lives over the course of three dramatic d
 ays and nights.</p>\n
CATEGORIES:Plays
URL;VALUE=URI:https://whitby.co.uk/mc-events/stormbound-whitby-pavilion-com
 plex/
METHOD:PUBLISH
END:VEVENT
END:VCALENDAR