BEGIN:VCALENDAR
VERSION:2.0
PRODID:spatie/icalendar-generator
DESCRIPTION:Events from Whitby
X-WR-CALDESC:Events from Whitby
REFRESH-INTERVAL;VALUE=DURATION:PT1440M
X-PUBLISHED-TTL:PT1440M
BEGIN:VTIMEZONE
TZID:Europe/London
BEGIN:DAYLIGHT
DTSTART:20150329T010000Z
TZOFFSETFROM:+0000
TZOFFSETTO:+0100
END:DAYLIGHT
BEGIN:STANDARD
DTSTART:20151025T020000Z
TZOFFSETFROM:+0100
TZOFFSETTO:+0000
END:STANDARD
BEGIN:DAYLIGHT
DTSTART:20160327T010000Z
TZOFFSETFROM:+0000
TZOFFSETTO:+0100
END:DAYLIGHT
END:VTIMEZONE
BEGIN:VTIMEZONE
TZID:UTC
BEGIN:STANDARD
DTSTART:20250727T205753Z
TZOFFSETFROM:+0000
TZOFFSETTO:+0000
END:STANDARD
END:VTIMEZONE
BEGIN:VEVENT
UID:2238-182
DTSTAMP:20260423T205753Z
SUMMARY:Here be Monsters! Whitby 2015
LOCATION:Captain Cook Memorial Museum Grape Lane  Whitby North Yorkshire YO
 22 4BA
ORGANIZER;CN=JS:MAILTO:info@completeinternetservices.co.uk
DTSTART;TZID=Europe/London:20151031T094500
DTEND;TZID=Europe/London:20151031T163000
X-ALT-DESC;FMTTYPE=TEXT/HTML:<p>There will be sea monster themed activities
  in the Captain Cook Memorial Museum over half-term\, so come down if you 
 dare!</p>\n
CATEGORIES:Cinema
URL;VALUE=URI:https://whitby.co.uk/mc-events/here-be-monsters-whitby-2015-2
 /
METHOD:PUBLISH
END:VEVENT
END:VCALENDAR