BEGIN:VCALENDAR
VERSION:2.0
PRODID:spatie/icalendar-generator
DESCRIPTION:Events from Whitby
X-WR-CALDESC:Events from Whitby
REFRESH-INTERVAL;VALUE=DURATION:PT1440M
X-PUBLISHED-TTL:PT1440M
BEGIN:VTIMEZONE
TZID:Europe/London
BEGIN:DAYLIGHT
DTSTART:20150329T010000Z
TZOFFSETFROM:+0000
TZOFFSETTO:+0100
END:DAYLIGHT
BEGIN:STANDARD
DTSTART:20151025T020000Z
TZOFFSETFROM:+0100
TZOFFSETTO:+0000
END:STANDARD
BEGIN:DAYLIGHT
DTSTART:20160327T010000Z
TZOFFSETFROM:+0000
TZOFFSETTO:+0100
END:DAYLIGHT
END:VTIMEZONE
BEGIN:VTIMEZONE
TZID:UTC
BEGIN:STANDARD
DTSTART:20250729T111209Z
TZOFFSETFROM:+0000
TZOFFSETTO:+0000
END:STANDARD
END:VTIMEZONE
BEGIN:VEVENT
UID:2220-164
DTSTAMP:20260425T111209Z
SUMMARY:Ray Randall - Whitby
LOCATION:The Station Inn - Whitby New Quay Road  Whitby North Yorkshire YO2
 1 1DH
ORGANIZER;CN=JS:MAILTO:info@completeinternetservices.co.uk
RRULE:FREQ=WEEKLY;COUNT=19
DTSTART;TZID=Europe/London:20151209T210000
DTEND;TZID=Europe/London:20151209T230000
X-ALT-DESC;FMTTYPE=TEXT/HTML:<p>Appearing on most Wednesdays but please che
 ck with venue if travelling etc...</p>\n
CATEGORIES:Music
URL;VALUE=URI:https://whitby.co.uk/mc-events/ray-randall-whitby/?mc_id=2220
METHOD:PUBLISH
END:VEVENT
END:VCALENDAR