BEGIN:VCALENDAR
VERSION:2.0
PRODID:spatie/icalendar-generator
DESCRIPTION:Events from Whitby
X-WR-CALDESC:Events from Whitby
REFRESH-INTERVAL;VALUE=DURATION:PT1440M
X-PUBLISHED-TTL:PT1440M
BEGIN:VTIMEZONE
TZID:Europe/London
BEGIN:DAYLIGHT
DTSTART:20150329T010000Z
TZOFFSETFROM:+0000
TZOFFSETTO:+0100
END:DAYLIGHT
BEGIN:STANDARD
DTSTART:20151025T020000Z
TZOFFSETFROM:+0100
TZOFFSETTO:+0000
END:STANDARD
END:VTIMEZONE
BEGIN:VTIMEZONE
TZID:UTC
BEGIN:STANDARD
DTSTART:20250728T001600Z
TZOFFSETFROM:+0000
TZOFFSETTO:+0000
END:STANDARD
END:VTIMEZONE
BEGIN:VEVENT
UID:2127-90
DTSTAMP:20260424T001600Z
SUMMARY:Whitby Regatta Market
LOCATION:Whitby   Whitby North Yorkshire YO21
ORGANIZER;CN=JS:MAILTO:info@completeinternetservices.co.uk
DTSTART;TZID=Europe/London:20150815T100000
DTEND;TZID=Europe/London:20150815T110000
X-ALT-DESC;FMTTYPE=TEXT/HTML:<p>A whole area dedicated to local traders and
  craft stalls many of whom attended the Whitby Christmas Market.</p>\n
CATEGORIES:Fair
URL;VALUE=URI:https://whitby.co.uk/mc-events/whitby-regatta-market/
METHOD:PUBLISH
END:VEVENT
END:VCALENDAR