BEGIN:VCALENDAR
VERSION:2.0
PRODID:spatie/icalendar-generator
DESCRIPTION:Events from Whitby
X-WR-CALDESC:Events from Whitby
REFRESH-INTERVAL;VALUE=DURATION:PT1440M
X-PUBLISHED-TTL:PT1440M
BEGIN:VTIMEZONE
TZID:Europe/London
BEGIN:DAYLIGHT
DTSTART:20150329T010000Z
TZOFFSETFROM:+0000
TZOFFSETTO:+0100
END:DAYLIGHT
BEGIN:STANDARD
DTSTART:20151025T020000Z
TZOFFSETFROM:+0100
TZOFFSETTO:+0000
END:STANDARD
END:VTIMEZONE
BEGIN:VTIMEZONE
TZID:UTC
BEGIN:STANDARD
DTSTART:20250728T043149Z
TZOFFSETFROM:+0000
TZOFFSETTO:+0000
END:STANDARD
END:VTIMEZONE
BEGIN:VEVENT
UID:2124-87
DTSTAMP:20260424T043149Z
SUMMARY:The Grand Parade - Whitby Regatta
LOCATION:Whitby   Whitby North Yorkshire YO21
ORGANIZER;CN=JS:MAILTO:info@completeinternetservices.co.uk
DTSTART;TZID=Europe/London:20150817T100000
DTEND;TZID=Europe/London:20150817T110000
X-ALT-DESC;FMTTYPE=TEXT/HTML:<p>Please see the Regatta Programme for the pa
 rade times. A parade of many decorated themed floats will make it's way th
 rough the heart of the Regatta celebrations.</p>\n
CATEGORIES:Cinema
URL;VALUE=URI:https://whitby.co.uk/mc-events/the-grand-parade-whitby-regatt
 a/
METHOD:PUBLISH
END:VEVENT
END:VCALENDAR