BEGIN:VCALENDAR
VERSION:2.0
PRODID:spatie/icalendar-generator
DESCRIPTION:Events from Whitby
X-WR-CALDESC:Events from Whitby
REFRESH-INTERVAL;VALUE=DURATION:PT1440M
X-PUBLISHED-TTL:PT1440M
BEGIN:VTIMEZONE
TZID:Europe/London
BEGIN:DAYLIGHT
DTSTART:20150329T010000Z
TZOFFSETFROM:+0000
TZOFFSETTO:+0100
END:DAYLIGHT
BEGIN:STANDARD
DTSTART:20151025T020000Z
TZOFFSETFROM:+0100
TZOFFSETTO:+0000
END:STANDARD
END:VTIMEZONE
BEGIN:VTIMEZONE
TZID:UTC
BEGIN:STANDARD
DTSTART:20250727T171833Z
TZOFFSETFROM:+0000
TZOFFSETTO:+0000
END:STANDARD
END:VTIMEZONE
BEGIN:VEVENT
UID:2117-80
DTSTAMP:20260423T171833Z
SUMMARY:RAF Displays - Whitby Regatta
LOCATION:Whitby   Whitby North Yorkshire YO21
ORGANIZER;CN=JS:MAILTO:info@completeinternetservices.co.uk
DTSTART;TZID=Europe/London:20150816T100000
DTEND;TZID=Europe/London:20150816T110000
X-ALT-DESC;FMTTYPE=TEXT/HTML:<p>Visit the RAF's static displays including a
  recruitment display.<br />\nPlease note due to operational duties all mil
 itary displays are subject to availability .</p>\n
CATEGORIES:Displays
URL;VALUE=URI:https://whitby.co.uk/mc-events/raf-displays-whitby-regatta-2/
METHOD:PUBLISH
END:VEVENT
END:VCALENDAR