BEGIN:VCALENDAR
VERSION:2.0
PRODID:spatie/icalendar-generator
DESCRIPTION:Events from Whitby
X-WR-CALDESC:Events from Whitby
REFRESH-INTERVAL;VALUE=DURATION:PT1440M
X-PUBLISHED-TTL:PT1440M
BEGIN:VTIMEZONE
TZID:Europe/London
BEGIN:DAYLIGHT
DTSTART:20150329T010000Z
TZOFFSETFROM:+0000
TZOFFSETTO:+0100
END:DAYLIGHT
BEGIN:STANDARD
DTSTART:20151025T020000Z
TZOFFSETFROM:+0100
TZOFFSETTO:+0000
END:STANDARD
END:VTIMEZONE
BEGIN:VTIMEZONE
TZID:UTC
BEGIN:STANDARD
DTSTART:20250727T171453Z
TZOFFSETFROM:+0000
TZOFFSETTO:+0000
END:STANDARD
END:VTIMEZONE
BEGIN:VEVENT
UID:2107-71
DTSTAMP:20260423T171453Z
SUMMARY:Vintage\, Post war\, Classic &amp; Sports Car Rally - Whitby Regatta
LOCATION:Whitby   Whitby North Yorkshire YO21
ORGANIZER;CN=JS:MAILTO:info@completeinternetservices.co.uk
DTSTART;TZID=Europe/London:20150816T100000
DTEND;TZID=Europe/London:20150816T110000
X-ALT-DESC;FMTTYPE=TEXT/HTML:<p>Many elegant cars will compete in various c
 lasses for prestigious trophies.</p>\n
CATEGORIES:Show
URL;VALUE=URI:https://whitby.co.uk/mc-events/vintage-post-war-classic-sport
 s-car-rally-whitby-regatta/
METHOD:PUBLISH
END:VEVENT
END:VCALENDAR