BEGIN:VCALENDAR
VERSION:2.0
PRODID:spatie/icalendar-generator
DESCRIPTION:Events from Whitby
X-WR-CALDESC:Events from Whitby
REFRESH-INTERVAL;VALUE=DURATION:PT1440M
X-PUBLISHED-TTL:PT1440M
BEGIN:VTIMEZONE
TZID:Europe/London
BEGIN:DAYLIGHT
DTSTART:20150329T010000Z
TZOFFSETFROM:+0000
TZOFFSETTO:+0100
END:DAYLIGHT
BEGIN:STANDARD
DTSTART:20151025T020000Z
TZOFFSETFROM:+0100
TZOFFSETTO:+0000
END:STANDARD
END:VTIMEZONE
BEGIN:VTIMEZONE
TZID:UTC
BEGIN:STANDARD
DTSTART:20250727T165700Z
TZOFFSETFROM:+0000
TZOFFSETTO:+0000
END:STANDARD
END:VTIMEZONE
BEGIN:VEVENT
UID:2106-70
DTSTAMP:20260423T165700Z
SUMMARY:Beach Volleyball - Whitby Regatta
LOCATION:Whitby   Whitby North Yorkshire YO21
ORGANIZER;CN=JS:MAILTO:info@completeinternetservices.co.uk
DTSTART;TZID=Europe/London:20150815T100000
DTEND;TZID=Europe/London:20150815T140000
X-ALT-DESC;FMTTYPE=TEXT/HTML:<p>Beach Battery Parade<br />\n£10 Entry Fee 
 Per Adult Team<br />\n£5  Entry Fee per Junior Team<br />\n2 a side Male 
 2 a side Female 4 a side recreational</p>\n
CATEGORIES:Cinema
URL;VALUE=URI:https://whitby.co.uk/mc-events/beach-volleyball-whitby-regatt
 a/
METHOD:PUBLISH
END:VEVENT
END:VCALENDAR